BEGIN:VCALENDAR
VERSION:2.0
PRODID:-//Zullo Gallery - ECPv6.15.20//NONSGML v1.0//EN
CALSCALE:GREGORIAN
METHOD:PUBLISH
X-WR-CALNAME:Zullo Gallery
X-ORIGINAL-URL:https://zullogallery.org
X-WR-CALDESC:Events for Zullo Gallery
REFRESH-INTERVAL;VALUE=DURATION:PT1H
X-Robots-Tag:noindex
X-PUBLISHED-TTL:PT1H
BEGIN:VTIMEZONE
TZID:UTC
BEGIN:STANDARD
TZOFFSETFROM:+0000
TZOFFSETTO:+0000
TZNAME:UTC
DTSTART:20200101T000000
END:STANDARD
END:VTIMEZONE
BEGIN:VEVENT
DTSTART;TZID=UTC:20210327T080000
DTEND;TZID=UTC:20210417T100000
DTSTAMP:20260420T040336
CREATED:20210331T145544Z
LAST-MODIFIED:20210628T184220Z
UID:556-1616832000-1618653600@zullogallery.org
SUMMARY:Drawing & Mixed Media
DESCRIPTION:This class will combine drawing skills – from beginner to  advanced –  with a wide variety of media. Each child will have the opportunity to develop their artistic skills at their own pace with individual instruction from an experienced teacher in a small group setting. 
URL:https://zullogallery.org/event/drawing-mixed-media/
CATEGORIES:Kids Classes
END:VEVENT
END:VCALENDAR