BEGIN:VCALENDAR
VERSION:2.0
PRODID:-//Zullo Gallery - ECPv6.15.20//NONSGML v1.0//EN
CALSCALE:GREGORIAN
METHOD:PUBLISH
X-WR-CALNAME:Zullo Gallery
X-ORIGINAL-URL:https://zullogallery.org
X-WR-CALDESC:Events for Zullo Gallery
REFRESH-INTERVAL;VALUE=DURATION:PT1H
X-Robots-Tag:noindex
X-PUBLISHED-TTL:PT1H
BEGIN:VTIMEZONE
TZID:UTC
BEGIN:STANDARD
TZOFFSETFROM:+0000
TZOFFSETTO:+0000
TZNAME:UTC
DTSTART:20250101T000000
END:STANDARD
END:VTIMEZONE
BEGIN:VEVENT
DTSTART;TZID=UTC:20260311T113000
DTEND;TZID=UTC:20260311T143000
DTSTAMP:20260420T070726
CREATED:20260309T124231Z
LAST-MODIFIED:20260309T124522Z
UID:4955-1773228600-1773239400@zullogallery.org
SUMMARY:Kids Palette to Go: Pop Art & Patterns
DESCRIPTION:Join this pop-up art class at the Zullo Gallery for young artists from Kindergarten\, 1st and 2nd Grade\, taught by Casey Worth and Mary Barrett. \nTickets: Register for tickets with TicketSource.com: https://www.ticketsource.com/zullo-gallery-center-for-the-arts/t-ejjzkqp. \nIn this class\, students will engage in creative exploration through hands-on\, vibrant art projects\, while also learning a little about art history. \nMuch of the teaching will draw on the bold and energetic world of pop artist Keith Haring. Projects will focus on movement\, color\, and personal expression\, encouraging kids to design their own characters and scenes while experimenting with Haring’s signature techniques. \nMaterials will be provided\, and include oil pastels\, paper\, and mixed media. At the end of the class\, students will have 2-3 pieces of work to bring home. \nThis lively class is perfect for young artists who love bold colors\, creative freedom\, and making art that jumps off the page! \nHere’s what the day looks like: \n11:30 a.m. — Welcome & lunch (BYO\, along with snack\, if needed)\n12:15 a.m. — Introduction to a featured artist or artistic technique\n12:30 p.m. — Hands-on art creation\n2:30 p.m. — Wrap up & pick up \n  \nWe look forward to seeing you there!
URL:https://zullogallery.org/event/kids-palette-pop-art-patterns/
LOCATION:Zullo Gallery Center for the Arts\, 456A Main Street\, Medfield\, MA\, 02052\, United States
CATEGORIES:Kids Classes
END:VEVENT
BEGIN:VEVENT
DTSTART;TZID=UTC:20260314T180000
DTEND;TZID=UTC:20260314T220000
DTSTAMP:20260420T070726
CREATED:20260305T184059Z
LAST-MODIFIED:20260305T184625Z
UID:4945-1773511200-1773525600@zullogallery.org
SUMMARY:The Victrola Experience: A Phonograph Concert
DESCRIPTION:Event Information: Step into the Zullo Gallery time machine with master engineer\, musician and discographer Johnny Dalton\, as he blends the sounds of 100+ year-old Victrola records with live acoustic music by 21st century performers. \nDoors open at 6 p.m.\, and first Victrola set starts soon after; live music begins at 7 p.m. \nThe event takes place in the historic Main Street Medfield building that once housed the G.A.R Hall\, a gathering spot for Civil War veterans. \n  \nTickets: Purchase your tickets through our platform on TicketSource: https://www.ticketsource.com/zullo-gallery-center-for-the-arts/t-pllqony. \n  \nAbout the Performers: \nJohnny Dalton — Owner/founder of Kung Pow! Recording & Mastering\, Johnny is a Boston Music Award-winning engineer and musician\, with special expertise in the history of musical production and recording\, and a passion for understanding how it has influenced today’s sounds. \nCara Brindisi — The singer/songwriter made a big splash as a member of Gwen Stefani’s team on Season 22 of NBC’s “The Voice.” The Berklee College of Music grad brings forth various musical genres with her otherworldly vocals. \nSweet Petunia — Mairead Guy and Maddy Simpson comprise this duo whose music has roots in folk and bluegrass\, and whose voices blend seamlessly as a result of years together since first meeting at Berklee College of Music. \nMembers of award-winning Medfield High School SoundWaves will also perform! \n 
URL:https://zullogallery.org/event/victrola-experience-phonograph-concert/
LOCATION:Zullo Gallery Center for the Arts\, 456A Main Street\, Medfield\, MA\, 02052\, United States
CATEGORIES:Events
END:VEVENT
BEGIN:VEVENT
DTSTART;VALUE=DATE:20260404
DTEND;VALUE=DATE:20260427
DTSTAMP:20260420T070726
CREATED:20260311T210356Z
LAST-MODIFIED:20260413T140907Z
UID:4967-1775260800-1777247999@zullogallery.org
SUMMARY:31st Annual Medfield Public Schools Student-Faculty Art Exhibition
DESCRIPTION:For the 31st year\, Zullo Gallery collaborates with the K-12 Visual Arts faculty of the Medfield Public Schools to host its Annual Student-Faculty Art Exhibition from April 4th-26th. Join us for the reception on April 15th at 5 p.m.\, with the show up through April 26th. The exhibition and reception are free\, and all are welcome. \nApril 4-26\, 2026\nArtist’s reception: Wednesday\, April 15th\, 5-6:30pm free/all welcome\nGallery Hours: Saturday and Sunday\, 12-5 p.m. \nThe Zullo Gallery offers a fantastic opportunity for student artwork to receive special notice by our community in a professional gallery setting. The show is designed to highlight student work and pieces are chosen as examples of student learning within the art curriculum. \nPainting by Anna Brehm\, Grade 7. \nThis program is funded in part by a grant from the Medfield Cultural Council\, a local agency which is supported by Mass Cultural Council\, a state agency. \n \n\n31st Annual Medfield Public Schools Student-Faculty Art Exhibition84 photos
URL:https://zullogallery.org/event/31st-annual-student-faculty-exhibition/
LOCATION:Zullo Gallery Center for the Arts\, 456A Main Street\, Medfield\, MA\, 02052\, United States
ATTACH;FMTTYPE=image/jpeg:https://zullogallery.org/wp-content/uploads/2021/03/AnnaBrehm_7thGrade-scaled.jpg
END:VEVENT
END:VCALENDAR